BEGIN:VCALENDAR
VERSION:2.0
PRODID:-//Taylor County - ECPv6.15.17.1//NONSGML v1.0//EN
CALSCALE:GREGORIAN
METHOD:PUBLISH
X-WR-CALNAME:Taylor County
X-ORIGINAL-URL:https://taylorcounty.iowa.gov
X-WR-CALDESC:Events for Taylor County
REFRESH-INTERVAL;VALUE=DURATION:PT1H
X-Robots-Tag:noindex
X-PUBLISHED-TTL:PT1H
BEGIN:VTIMEZONE
TZID:America/Chicago
BEGIN:DAYLIGHT
TZOFFSETFROM:-0600
TZOFFSETTO:-0500
TZNAME:CDT
DTSTART:20210314T080000
END:DAYLIGHT
BEGIN:STANDARD
TZOFFSETFROM:-0500
TZOFFSETTO:-0600
TZNAME:CST
DTSTART:20211107T070000
END:STANDARD
BEGIN:DAYLIGHT
TZOFFSETFROM:-0600
TZOFFSETTO:-0500
TZNAME:CDT
DTSTART:20220313T080000
END:DAYLIGHT
BEGIN:STANDARD
TZOFFSETFROM:-0500
TZOFFSETTO:-0600
TZNAME:CST
DTSTART:20221106T070000
END:STANDARD
BEGIN:DAYLIGHT
TZOFFSETFROM:-0600
TZOFFSETTO:-0500
TZNAME:CDT
DTSTART:20230312T080000
END:DAYLIGHT
BEGIN:STANDARD
TZOFFSETFROM:-0500
TZOFFSETTO:-0600
TZNAME:CST
DTSTART:20231105T070000
END:STANDARD
BEGIN:DAYLIGHT
TZOFFSETFROM:-0600
TZOFFSETTO:-0500
TZNAME:CDT
DTSTART:20240310T080000
END:DAYLIGHT
BEGIN:STANDARD
TZOFFSETFROM:-0500
TZOFFSETTO:-0600
TZNAME:CST
DTSTART:20241103T070000
END:STANDARD
BEGIN:DAYLIGHT
TZOFFSETFROM:-0600
TZOFFSETTO:-0500
TZNAME:CDT
DTSTART:20250309T080000
END:DAYLIGHT
BEGIN:STANDARD
TZOFFSETFROM:-0500
TZOFFSETTO:-0600
TZNAME:CST
DTSTART:20251102T070000
END:STANDARD
END:VTIMEZONE
BEGIN:VEVENT
DTSTART;VALUE=DATE:20240115
DTEND;VALUE=DATE:20240116
DTSTAMP:20260419T203523
CREATED:20231212T154048Z
LAST-MODIFIED:20231212T154048Z
UID:6726-1705276800-1705363199@taylorcounty.iowa.gov
SUMMARY:Martin Luther King Jr. Day 2024 - Courthouse Closed
DESCRIPTION:The Taylor County Courthouse will be closed January 15th in observation of Martin Luther King Jr. Day.
URL:https://taylorcounty.iowa.gov/event/martin-luther-king-jr-day-2024-courthouse-closed/
LOCATION:Taylor County Courthouse\, 405 Jefferson Street\, Bedford\, 50833\, United States
CATEGORIES:Scheduled Holiday
ATTACH;FMTTYPE=image/png:https://taylorcounty.iowa.gov/wp-content/uploads/2022/11/taylorcounty-closed.png
ORGANIZER;CN="Taylor County":MAILTO:contact@taylorcounty.iowa.gov
END:VEVENT
BEGIN:VEVENT
DTSTART;VALUE=DATE:20240101
DTEND;VALUE=DATE:20240102
DTSTAMP:20260419T203523
CREATED:20231212T153205Z
LAST-MODIFIED:20231212T153205Z
UID:6724-1704067200-1704153599@taylorcounty.iowa.gov
SUMMARY:New Year's 2024 Courthouse Closing
DESCRIPTION:The Taylor County Courthouse will be closed January 1st 2024 for the observation of the New Year’s Holiday.
URL:https://taylorcounty.iowa.gov/event/new-years-2024-courthouse-closing/
LOCATION:Taylor County Courthouse\, 405 Jefferson Street\, Bedford\, 50833\, United States
CATEGORIES:Scheduled Holiday
ATTACH;FMTTYPE=image/png:https://taylorcounty.iowa.gov/wp-content/uploads/2022/11/taylorcounty-closed.png
ORGANIZER;CN="Taylor County":MAILTO:contact@taylorcounty.iowa.gov
END:VEVENT
BEGIN:VEVENT
DTSTART;VALUE=DATE:20231225
DTEND;VALUE=DATE:20231227
DTSTAMP:20260419T203523
CREATED:20221118T151258Z
LAST-MODIFIED:20221118T151258Z
UID:3841-1703462400-1703635199@taylorcounty.iowa.gov
SUMMARY:Christmas 2023 - Courthouse Closed
DESCRIPTION:The Taylor County Courthouse will be closed Monday December 25th and Tuesday December 26th in observation of Christmas Holiday.
URL:https://taylorcounty.iowa.gov/event/christmas-2023-courthouse-closed/
LOCATION:Taylor County Courthouse\, 405 Jefferson Street\, Bedford\, 50833\, United States
CATEGORIES:Scheduled Holiday
ATTACH;FMTTYPE=image/png:https://taylorcounty.iowa.gov/wp-content/uploads/2022/11/taylorcounty-closed.png
ORGANIZER;CN="Taylor County":MAILTO:contact@taylorcounty.iowa.gov
END:VEVENT
BEGIN:VEVENT
DTSTART;VALUE=DATE:20231123
DTEND;VALUE=DATE:20231125
DTSTAMP:20260419T203523
CREATED:20221118T151112Z
LAST-MODIFIED:20221118T151112Z
UID:3839-1700697600-1700870399@taylorcounty.iowa.gov
SUMMARY:Thanksgiving 2023 - Courthouse Closed
DESCRIPTION:The Taylor County Courthouse will be closed November 23rd and November 24th 2023 in observation of the Thanksgiving Holiday.
URL:https://taylorcounty.iowa.gov/event/thanksgiving-2023-courthouse-closed/
LOCATION:Taylor County Courthouse\, 405 Jefferson Street\, Bedford\, 50833\, United States
CATEGORIES:Scheduled Holiday
ATTACH;FMTTYPE=image/png:https://taylorcounty.iowa.gov/wp-content/uploads/2022/11/taylorcounty-closed.png
ORGANIZER;CN="Taylor County":MAILTO:contact@taylorcounty.iowa.gov
END:VEVENT
BEGIN:VEVENT
DTSTART;VALUE=DATE:20231110
DTEND;VALUE=DATE:20231111
DTSTAMP:20260419T203523
CREATED:20221118T150922Z
LAST-MODIFIED:20221118T150922Z
UID:3837-1699574400-1699660799@taylorcounty.iowa.gov
SUMMARY:Veterans Day 2023 Observed - Courthouse Closed
DESCRIPTION:The Taylor County Courthouse will be closed Friday November 10th in observation of Veterans Day.
URL:https://taylorcounty.iowa.gov/event/veterans-day-2023-observed-courthouse-closed/
LOCATION:Taylor County Courthouse\, 405 Jefferson Street\, Bedford\, 50833\, United States
CATEGORIES:Scheduled Holiday
ATTACH;FMTTYPE=image/png:https://taylorcounty.iowa.gov/wp-content/uploads/2022/11/taylorcounty-closed.png
ORGANIZER;CN="Taylor County":MAILTO:contact@taylorcounty.iowa.gov
END:VEVENT
BEGIN:VEVENT
DTSTART;VALUE=DATE:20231009
DTEND;VALUE=DATE:20231010
DTSTAMP:20260419T203523
CREATED:20221118T150710Z
LAST-MODIFIED:20231006T180437Z
UID:3835-1696809600-1696895999@taylorcounty.iowa.gov
SUMMARY:Columbus Day 2023 - Courthouse Closed
DESCRIPTION:Most of the Taylor County Courthouse will be closed October 9th 2023 in observation of Columbus Day. \nOnly the Clerk of Courts in be open on Monday.
URL:https://taylorcounty.iowa.gov/event/columbus-day-2023-courthouse-closed/
LOCATION:Taylor County Courthouse\, 405 Jefferson Street\, Bedford\, 50833\, United States
CATEGORIES:Scheduled Holiday
ATTACH;FMTTYPE=image/png:https://taylorcounty.iowa.gov/wp-content/uploads/2022/11/taylorcounty-closed.png
ORGANIZER;CN="Taylor County":MAILTO:contact@taylorcounty.iowa.gov
END:VEVENT
BEGIN:VEVENT
DTSTART;VALUE=DATE:20230904
DTEND;VALUE=DATE:20230905
DTSTAMP:20260419T203523
CREATED:20221118T150059Z
LAST-MODIFIED:20221118T150059Z
UID:3832-1693785600-1693871999@taylorcounty.iowa.gov
SUMMARY:Labor Day 2023 - Courthouse Closed
DESCRIPTION:The Taylor County Courthouse will be closed Monday September 4th 2023 in observation of Labor Day.
URL:https://taylorcounty.iowa.gov/event/labor-day-2023-courthouse-closed/
LOCATION:Taylor County Courthouse\, 405 Jefferson Street\, Bedford\, 50833\, United States
CATEGORIES:Scheduled Holiday
ATTACH;FMTTYPE=image/png:https://taylorcounty.iowa.gov/wp-content/uploads/2022/11/taylorcounty-closed.png
ORGANIZER;CN="Taylor County":MAILTO:contact@taylorcounty.iowa.gov
END:VEVENT
BEGIN:VEVENT
DTSTART;VALUE=DATE:20230704
DTEND;VALUE=DATE:20230705
DTSTAMP:20260419T203523
CREATED:20221118T145641Z
LAST-MODIFIED:20221118T145730Z
UID:3827-1688428800-1688515199@taylorcounty.iowa.gov
SUMMARY:Independence Day 2023 - Courthouse Closed
DESCRIPTION:The Taylor County Courthouse will be closed Tuesday July 4th 2023 in observation of Independence Day.
URL:https://taylorcounty.iowa.gov/event/independence-day-2023-courthouse-closed/
LOCATION:Taylor County Courthouse\, 405 Jefferson Street\, Bedford\, 50833\, United States
CATEGORIES:Scheduled Holiday
ATTACH;FMTTYPE=image/png:https://taylorcounty.iowa.gov/wp-content/uploads/2022/11/taylorcounty-closed.png
ORGANIZER;CN="Taylor County":MAILTO:contact@taylorcounty.iowa.gov
END:VEVENT
BEGIN:VEVENT
DTSTART;VALUE=DATE:20230529
DTEND;VALUE=DATE:20230530
DTSTAMP:20260419T203523
CREATED:20221118T145500Z
LAST-MODIFIED:20221118T145500Z
UID:3825-1685318400-1685404799@taylorcounty.iowa.gov
SUMMARY:Memorial Day 2023 - Courthouse Closed
DESCRIPTION:The Taylor County Courthouse will be closed Monday May 29th 2023 in observation of Memorial Day.
URL:https://taylorcounty.iowa.gov/event/memorial-day-2023-courthouse-closed/
LOCATION:Taylor County Courthouse\, 405 Jefferson Street\, Bedford\, 50833\, United States
CATEGORIES:Scheduled Holiday
ATTACH;FMTTYPE=image/png:https://taylorcounty.iowa.gov/wp-content/uploads/2022/11/taylorcounty-closed.png
ORGANIZER;CN="Taylor County":MAILTO:contact@taylorcounty.iowa.gov
END:VEVENT
BEGIN:VEVENT
DTSTART;VALUE=DATE:20230220
DTEND;VALUE=DATE:20230221
DTSTAMP:20260419T203523
CREATED:20221118T145249Z
LAST-MODIFIED:20221118T145827Z
UID:3823-1676851200-1676937599@taylorcounty.iowa.gov
SUMMARY:President's Day 2023 - Courthouse Closed
DESCRIPTION:The Taylor County Courthouse will be closed Monday February 20th in observation of President’s Day.
URL:https://taylorcounty.iowa.gov/event/presidents-day-2023-courthouse-closed/
LOCATION:Taylor County Courthouse\, 405 Jefferson Street\, Bedford\, 50833\, United States
CATEGORIES:Scheduled Holiday
ATTACH;FMTTYPE=image/png:https://taylorcounty.iowa.gov/wp-content/uploads/2022/11/taylorcounty-closed.png
ORGANIZER;CN="Taylor County":MAILTO:contact@taylorcounty.iowa.gov
END:VEVENT
BEGIN:VEVENT
DTSTART;VALUE=DATE:20230116
DTEND;VALUE=DATE:20230117
DTSTAMP:20260419T203523
CREATED:20221118T145111Z
LAST-MODIFIED:20221118T163209Z
UID:3821-1673827200-1673913599@taylorcounty.iowa.gov
SUMMARY:Martin Luther King Jr. Day 2023 - Courthouse Closed
DESCRIPTION:The Taylor County Courthouse will be closed January 16th in observation of Martin Luther King Jr. Day.
URL:https://taylorcounty.iowa.gov/event/martin-luther-king-jr-day-2023-courthouse-closed/
LOCATION:Taylor County Courthouse\, 405 Jefferson Street\, Bedford\, 50833\, United States
CATEGORIES:Scheduled Holiday
ATTACH;FMTTYPE=image/png:https://taylorcounty.iowa.gov/wp-content/uploads/2022/11/taylorcounty-closed.png
ORGANIZER;CN="Taylor County":MAILTO:contact@taylorcounty.iowa.gov
END:VEVENT
BEGIN:VEVENT
DTSTART;VALUE=DATE:20221230
DTEND;VALUE=DATE:20230103
DTSTAMP:20260419T203523
CREATED:20221118T144840Z
LAST-MODIFIED:20221118T145904Z
UID:3819-1672358400-1672703999@taylorcounty.iowa.gov
SUMMARY:New Year's 2023 Courthouse Closing
DESCRIPTION:The Taylor County Courthouse will be closed Friday December 30th 2022 through January 2nd 2023 for the observation of the New Year’s Holiday.
URL:https://taylorcounty.iowa.gov/event/new-years-2023-courthouse-closing/
LOCATION:Taylor County Courthouse\, 405 Jefferson Street\, Bedford\, 50833\, United States
CATEGORIES:Scheduled Holiday
ATTACH;FMTTYPE=image/png:https://taylorcounty.iowa.gov/wp-content/uploads/2022/11/taylorcounty-closed.png
ORGANIZER;CN="Taylor County":MAILTO:contact@taylorcounty.iowa.gov
END:VEVENT
BEGIN:VEVENT
DTSTART;VALUE=DATE:20221223
DTEND;VALUE=DATE:20221227
DTSTAMP:20260419T203523
CREATED:20221118T140014Z
LAST-MODIFIED:20221118T144827Z
UID:3817-1671753600-1672099199@taylorcounty.iowa.gov
SUMMARY:2022 Christmas - Courthouse close on the 23rd through 26th
DESCRIPTION:The Taylor County Courthouse will be closed Friday December 23rd through Monday December the 26th for the Christmas Holiday.
URL:https://taylorcounty.iowa.gov/event/2022-christmas-courthouse-close-on-the-23rd-through-26th/
LOCATION:Taylor County Courthouse\, 405 Jefferson Street\, Bedford\, 50833\, United States
CATEGORIES:Scheduled Holiday
ATTACH;FMTTYPE=image/png:https://taylorcounty.iowa.gov/wp-content/uploads/2022/11/taylorcounty-closed.png
ORGANIZER;CN="Taylor County":MAILTO:contact@taylorcounty.iowa.gov
END:VEVENT
BEGIN:VEVENT
DTSTART;VALUE=DATE:20221124
DTEND;VALUE=DATE:20221126
DTSTAMP:20260419T203523
CREATED:20220107T143614Z
LAST-MODIFIED:20221118T143826Z
UID:3812-1669248000-1669420799@taylorcounty.iowa.gov
SUMMARY:Thanksgiving - Courthouse closed
DESCRIPTION:The Taylor County Courthouse will be closed today November 24th and November 25th for Thanksgiving. \nNote that the Clerk of Court will be closed November 23rd -25th.
URL:https://taylorcounty.iowa.gov/event/thanksgiving-courthouse-closed/
LOCATION:Taylor County Courthouse\, 405 Jefferson Street\, Bedford\, 50833\, United States
CATEGORIES:Scheduled Holiday
ATTACH;FMTTYPE=image/png:https://taylorcounty.iowa.gov/wp-content/uploads/2022/11/taylorcounty-closed.png
ORGANIZER;CN="Taylor County":MAILTO:contact@taylorcounty.iowa.gov
END:VEVENT
END:VCALENDAR