BEGIN:VCALENDAR
VERSION:2.0
PRODID:-//Taylor County - ECPv6.15.17.1//NONSGML v1.0//EN
CALSCALE:GREGORIAN
METHOD:PUBLISH
X-WR-CALNAME:Taylor County
X-ORIGINAL-URL:https://taylorcounty.iowa.gov
X-WR-CALDESC:Events for Taylor County
REFRESH-INTERVAL;VALUE=DURATION:PT1H
X-Robots-Tag:noindex
X-PUBLISHED-TTL:PT1H
BEGIN:VTIMEZONE
TZID:America/Chicago
BEGIN:DAYLIGHT
TZOFFSETFROM:-0600
TZOFFSETTO:-0500
TZNAME:CDT
DTSTART:20240310T080000
END:DAYLIGHT
BEGIN:STANDARD
TZOFFSETFROM:-0500
TZOFFSETTO:-0600
TZNAME:CST
DTSTART:20241103T070000
END:STANDARD
BEGIN:DAYLIGHT
TZOFFSETFROM:-0600
TZOFFSETTO:-0500
TZNAME:CDT
DTSTART:20250309T080000
END:DAYLIGHT
BEGIN:STANDARD
TZOFFSETFROM:-0500
TZOFFSETTO:-0600
TZNAME:CST
DTSTART:20251102T070000
END:STANDARD
BEGIN:DAYLIGHT
TZOFFSETFROM:-0600
TZOFFSETTO:-0500
TZNAME:CDT
DTSTART:20260308T080000
END:DAYLIGHT
BEGIN:STANDARD
TZOFFSETFROM:-0500
TZOFFSETTO:-0600
TZNAME:CST
DTSTART:20261101T070000
END:STANDARD
END:VTIMEZONE
BEGIN:VEVENT
DTSTART;TZID=America/Chicago:20251013T080000
DTEND;TZID=America/Chicago:20251013T170000
DTSTAMP:20260419T175452
CREATED:20251001T204259Z
LAST-MODIFIED:20251001T204259Z
UID:8609-1760342400-1760374800@taylorcounty.iowa.gov
SUMMARY:Columbus Day 2025 - Department Closures
DESCRIPTION:The Taylor County Courthouse will be closed on October 13th in observance of Columbus Day.\nTaylor County Engineering and Public Health Office’s will also be closed. \nThe Clerk Of Courts Office will still be open though.
URL:https://taylorcounty.iowa.gov/event/columbus-day-2025-department-closures/
LOCATION:Taylor County Courthouse\, 405 Jefferson Street\, Bedford\, 50833\, United States
CATEGORIES:Scheduled Holiday
ATTACH;FMTTYPE=image/png:https://taylorcounty.iowa.gov/wp-content/uploads/2022/11/taylorcounty-closed.png
ORGANIZER;CN="Taylor County":MAILTO:contact@taylorcounty.iowa.gov
END:VEVENT
END:VCALENDAR